BEGIN:VCALENDAR
VERSION:2.0
PRODID:icalendar-ruby
CALSCALE:GREGORIAN
METHOD:PUBLISH
BEGIN:VEVENT
DTSTAMP:20260421T100508Z
UID:89fba254-a47c-4f14-8868-325142963597
DTSTART:20261003T140000
DTEND:20261004T020000
DESCRIPTION:<p>3rd time is a Charm\, Hello BLOEMFONTEIN. Get your tickets n
 ow!</p>
LOCATION:to be announced
SUMMARY:PHOLA - Bloemfontein
URL;VALUE=URI:https://phola.howler.co.za/PHolabloemfontein
END:VEVENT
END:VCALENDAR
